BEGIN:VCALENDAR
VERSION:2.0
PRODID:-//Naguski.pl - Natura i Naturyzm - ECPv6.15.20//NONSGML v1.0//EN
CALSCALE:GREGORIAN
METHOD:PUBLISH
X-WR-CALNAME:Naguski.pl - Natura i Naturyzm
X-ORIGINAL-URL:https://naguski.pl
X-WR-CALDESC:Wydarzenia dla Naguski.pl - Natura i Naturyzm
REFRESH-INTERVAL;VALUE=DURATION:PT1H
X-Robots-Tag:noindex
X-PUBLISHED-TTL:PT1H
BEGIN:VTIMEZONE
TZID:Europe/Warsaw
BEGIN:DAYLIGHT
TZOFFSETFROM:+0100
TZOFFSETTO:+0200
TZNAME:CEST
DTSTART:20240331T010000
END:DAYLIGHT
BEGIN:STANDARD
TZOFFSETFROM:+0200
TZOFFSETTO:+0100
TZNAME:CET
DTSTART:20241027T010000
END:STANDARD
BEGIN:DAYLIGHT
TZOFFSETFROM:+0100
TZOFFSETTO:+0200
TZNAME:CEST
DTSTART:20250330T010000
END:DAYLIGHT
BEGIN:STANDARD
TZOFFSETFROM:+0200
TZOFFSETTO:+0100
TZNAME:CET
DTSTART:20251026T010000
END:STANDARD
BEGIN:DAYLIGHT
TZOFFSETFROM:+0100
TZOFFSETTO:+0200
TZNAME:CEST
DTSTART:20260329T010000
END:DAYLIGHT
BEGIN:STANDARD
TZOFFSETFROM:+0200
TZOFFSETTO:+0100
TZNAME:CET
DTSTART:20261025T010000
END:STANDARD
BEGIN:DAYLIGHT
TZOFFSETFROM:+0100
TZOFFSETTO:+0200
TZNAME:CEST
DTSTART:20270328T010000
END:DAYLIGHT
BEGIN:STANDARD
TZOFFSETFROM:+0200
TZOFFSETTO:+0100
TZNAME:CET
DTSTART:20271031T010000
END:STANDARD
END:VTIMEZONE
BEGIN:VEVENT
DTSTART;TZID=Europe/Warsaw:20251231T200000
DTEND;TZID=Europe/Warsaw:20260102T020000
DTSTAMP:20260421T135743
CREATED:20251202T070105Z
LAST-MODIFIED:20251202T070318Z
UID:664-1767211200-1767319200@naguski.pl
SUMMARY:Sylwester 2025 - Cezar
DESCRIPTION:Serdecznie zapraszamy na tegorocznego Sylwestra! 🍾\nStart o godz. 20:00. Ośrodek otwarty będzie od godz. 19:00. \nPodczas zabawy tanecznej zachęcamy do korzystania z atrakcji naszego ośrodka ➡️ sauny\, basenu\,\noraz jacuzzi. ✨ \nPodczas imprezy ceremonię naparzania w saunie będzie wykonywał nasz sauna-mistrz Rysiek Rak! 🔥 \nKolacja serwowana będzie o godz. 20.00:\n🥄pierwsze danie\n🥄danie główne\n🥄deser\n🥄kawa lub herbata \nCena zawiera wybrany alkohol dla pary (butelka wina lub 0\,5l wódki). \nW okolicach godz. 23:00 zostanie podane dodatkowe danie. Natomiast po północy zostanie podana elegancja przekąska wraz z szampanem. 🥂 \nW nocy goście otrzymają również drugą kolację na ciepło. \nDodatkowo podczas imprezy serwowana będzie zimna płyta zawierająca tradycyjne polskie wyroby\, wędliny\, sery\, sałatki oraz owoce i inne przekąski. \nIstnieje możliwość wegetariańskiego menu po uprzednim zgłoszeniu. \nCena – 715 zł/osoba. \nMile widziany dodatek w postaci motywu przewodniego imprezy – akcesoriów związanych z bielizną nocną. \nZe względu na limitowaną ilość miejsc konieczna jest wcześniejsza rezerwacja pod numerem telefonu: 📞 501210504kiki \nViews: 10
URL:https://naguski.pl/event/664/
LOCATION:SaunaCezara\, ul. Ciesielska 32\, Bielsko Biała\, śląskie\, 43-310\, Poland
CATEGORIES:Sauna
ORGANIZER;CN="Cezar Naturyzm Bielsko-Bia%C5%82a":MAILTO:saunacezar@gmail.com
END:VEVENT
BEGIN:VEVENT
DTSTART;TZID=Europe/Warsaw:20251231T183000
DTEND;TZID=Europe/Warsaw:20260101T020000
DTSTAMP:20260421T135743
CREATED:20251202T065459Z
LAST-MODIFIED:20251202T065735Z
UID:662-1767205800-1767232800@naguski.pl
SUMMARY:Saunowy Bal Sylwestrowy
DESCRIPTION:SYLWESTER 2025/ 26 W SAUNIE\, JACUZZI I SZLAFROKUJeśli nie masz jeszcze planów na Sylwestra\, przyjdź na naszą imprezę Happy Nude Year 31 grudniaKameralna impreza sylwestrowa na luzie\, totalny relaks\, detoks dla ciała i umysłu– bez fryzjera\, specjalnych kreacji i niewygodnych szpilek. Zabierz tylko swój strój Adama i Ewy  Podaruj sobie magiczna saunową noc sylwestrową\nIdealna okazja również dla każdego\, kto dopiero zaczyna przygodę z naturyzmem lub saunowaniem.Sauna\, Jacuzzi w pieknym\, zacisznym ogrodzie pod gwiazdami\, szwedzki stół\, owoce\, przekąski\, sok/woda\, wszystkie napoje w cenie wejściówki\, pyszne jedzonko\, w tym gorące danie\, świetna muzyka do tańcaZrzutka: 420zl zł od osobyPrzynieś 2- 3ręczniki i uśmiech!ISTNIEJE MOŻLIWOŚĆ REZERWACJI MASAŻY PRZED IMPREZĄ\, LUB NASTĘPNEGO DNIANapisz do nas\, jeśli masz więcej pytań lub chcesz uzyskać więcej informacji.OGRANICZONA LICZBA MIEJSC. Rezerwacja miejsc telefonicznie lub sms.Duża ilośc darmowych miejsc parkingowych\, noclegi na miejscu.Serdecznie zapraszamy!#sylwestersaunowy #kameralnesaunowanie #poprawnesaunowanie #beztekstylnie #ceremonieaufguss #ceremoniesaunowe #saunalife #saunatume #spakrakow #pakietyspa #saunakraków #zdrowesaunowanie #wellnessspa #mindfullnes\nViews: 10
URL:https://naguski.pl/event/saunowy-bal-sylwestrowy/
LOCATION:EmeraldSpa.pl\, Chałubińskiego 64\, Kraków\, małopolskie\, Poland
CATEGORIES:Sauna
END:VEVENT
END:VCALENDAR